BEGIN:VCALENDAR
VERSION:2.0
PRODID:-//wp-events-plugin.com//7.2.3.1//EN
BEGIN:VEVENT
UID:77@markt-hohenwart.de
DTSTART;TZID=Europe/Berlin:20261031T190000
DTEND;TZID=Europe/Berlin:20261031T233000
DTSTAMP:20260202T104904Z
URL:https://markt-hohenwart.de/events/watt-turnier/
SUMMARY:Watt-Turnier
DESCRIPTION:Programm folgt\n\n\n\nInformationen zum Veranstalter\n\n\nTurn-
  und Sportverein Hohenwart e.V.\n86558 Hohenwart\n\n\n\n\n\n\n\n\nKontakt 
 zur Veranstaltung\n\n\nAnsprechpartner: Mathias Dischner\nHomepage: https:
 //www.tsv-hohenwart.de\n\n\n\n\n\n\n\n\nOrt der Veranstaltung\n\n\n86558 H
 ohenwart\nSchulstraße 7\n Ortsbeschreibung: Am Sportgelände \n\n\n\n\n\n
 \n\n\nDatum und Uhrzeit\n\n\n\n\n\n\nVon:\n 31.10.2026\n 19:00\n\n\nBis:
 \n31.10.2026\n 23:30\n\n\n\n\n\n&nbsp\;
ATTACH;FMTTYPE=image/jpeg:https://markt-hohenwart.de/wp-content/uploads/20
 25/12/Turn-und-Sportverein-Hohenwart.jpg
LOCATION:Sportheim TSV Hohenwart\, Schulstrasse 4\, Hohenwart\, 86558\, Deu
 tschland
X-APPLE-STRUCTURED-LOCATION;VALUE=URI;X-ADDRESS=Schulstrasse 4\, Hohenwart\
 , 86558\, Deutschland;X-APPLE-RADIUS=100;X-TITLE=Sportheim TSV Hohenwart:g
 eo:0,0
END:VEVENT
BEGIN:VTIMEZONE
TZID:Europe/Berlin
X-LIC-LOCATION:Europe/Berlin
BEGIN:STANDARD
DTSTART:20261025T020000
TZOFFSETFROM:+0200
TZOFFSETTO:+0100
TZNAME:CET
END:STANDARD
END:VTIMEZONE
END:VCALENDAR